BEGIN:VCALENDAR
VERSION:2.0
PRODID:-//plazasatelite//EN
CALSCALE:GREGORIAN
BEGIN:VEVENT
UID:evento-8829@plazasatelite
DTSTAMP:20260421T082715Z
DTSTART:20260305T170000
DTEND:20260305T190000
SUMMARY:CLASE FLORAL
DESCRIPTION:Conmemora el Día de la Mujer con nosotros en una hermosa Clase Floral impartida por Le Rosé Florería, un espacio especial para celebrar, crear y llenarnos de inspiración entre flores. Para participar, regístrate a través de nuestras redes sociales y presenta tu ticket de compra (no participan tickets de El Palacio de Hierro). Cupo limitado, [&hellip;]
END:VEVENT
END:VCALENDAR
