BEGIN:VCALENDAR
VERSION:2.0
PRODID:-//plazasatelite//EN
CALSCALE:GREGORIAN
BEGIN:VEVENT
UID:evento-9006@plazasatelite
DTSTAMP:20260422T113520Z
DTSTART:20260425T170000
DTEND:20260425T190000
SUMMARY:CLASE DE BOTANICA
DESCRIPTION:Te invitamos a nuestra Clase de Botánica, una experiencia creativa y sensorial donde descubrirás el fascinante mundo de las plantas y las flores. Déjate inspirar, relájate y despierta tu creatividad en un espacio pensado para reconectar contigo y con la naturaleza. Registro a traves de redes sociales.
LOCATION:FRENTE A YOGEN FRUZZ
END:VEVENT
END:VCALENDAR
