BEGIN:VCALENDAR
VERSION:2.0
PRODID:-//plazasatelite//EN
CALSCALE:GREGORIAN
BEGIN:VEVENT
UID:evento-9024@plazasatelite
DTSTAMP:20260420T031232Z
DTSTART:20260422T170000
DTEND:20260422T183000
SUMMARY:EL PALACIO DE HIERRO: TALLER DE PERFUMERIA
DESCRIPTION:Sumérgete en el fascinante mundo de las fragancias y descubre el arte de crear perfumes únicos que reflejen tu personalidad. Aprende sobre notas olfativas Descubre combinaciones perfectas Conoce técnicas básicas de perfumería Diseña tu propia fragancia Déjate envolver por aromas increíbles y vive una experiencia sensorial que despertará tu creatividad. Registro a traves de redes [&hellip;]
LOCATION:EL PALACIO DE HIERRO
END:VEVENT
END:VCALENDAR
