BEGIN:VCALENDAR
VERSION:2.0
PRODID:-//plazasatelite//EN
CALSCALE:GREGORIAN
BEGIN:VEVENT
UID:evento-9028@plazasatelite
DTSTAMP:20260421T113949Z
DTSTART:20260423T170000
DTEND:20260423T183000
SUMMARY:L´OCCITANE: RUTINA DE SKINCARE
DESCRIPTION:Descubre cómo consentir tu piel con los mejores rituales de cuidado, aprendiendo paso a paso una rutina que la hará lucir fresca, luminosa y saludable. Tips de expertos Ingredientes naturales Rutina ideal para tu piel Momentos de autocuidado Regálate un espacio para relajarte, aprender y brillar desde adentro hacia afuera. Registro a traves de redes [&hellip;]
LOCATION:L´OCCITANE
END:VEVENT
END:VCALENDAR
